BEGIN:VCALENDAR
VERSION:2.0
PRODID:-//Pedala Joinville - ECPv6.15.3//NONSGML v1.0//EN
CALSCALE:GREGORIAN
METHOD:PUBLISH
X-ORIGINAL-URL:https://www.pedalajoinville.org.br
X-WR-CALDESC:Eventos para Pedala Joinville
REFRESH-INTERVAL;VALUE=DURATION:PT1H
X-Robots-Tag:noindex
X-PUBLISHED-TTL:PT1H
BEGIN:VTIMEZONE
TZID:America/Sao_Paulo
BEGIN:STANDARD
TZOFFSETFROM:-0300
TZOFFSETTO:-0300
TZNAME:-03
DTSTART:20220101T000000
END:STANDARD
END:VTIMEZONE
BEGIN:VEVENT
DTSTART;TZID=America/Sao_Paulo:20241130T080000
DTEND;TZID=America/Sao_Paulo:20241130T080000
DTSTAMP:20260423T105747
CREATED:20241106T014817Z
LAST-MODIFIED:20241106T014817Z
UID:3421-1732953600-1732953600@www.pedalajoinville.org.br
SUMMARY:PEDAL DE NATAL
DESCRIPTION:No dia 30 de Novembro o Movimento Pedala Joinville irá promover um pedal de Natal para presentear crianças da Escola Municipal Vanessa May Emgelnann\, na Estrada do Morro\, com a participação especial do Papai Noel\, se você também quiser participar acompanhe nossas redes sociais que em breve daremos mais informações\, se você quiser ajudar financeiramente\, também pode nos chame no direct do instagram que lhe diremos como. Faça você também parte desta corrente do bem.
URL:https://www.pedalajoinville.org.br/agenda-de-eventos/pedal-de-natal/
END:VEVENT
BEGIN:VEVENT
DTSTART;TZID=America/Sao_Paulo:20220821T083000
DTEND;TZID=America/Sao_Paulo:20220821T170000
DTSTAMP:20260423T105747
CREATED:20220727T172245Z
LAST-MODIFIED:20220727T174615Z
UID:1123-1661070600-1661101200@www.pedalajoinville.org.br
SUMMARY:Festa aniversário 2 anos do Ciplada & Apaixonada
DESCRIPTION:
URL:https://www.pedalajoinville.org.br/agenda-de-eventos/festa-aniversario-2-anos-do-ciplada-apaixonada/
LOCATION:Estrada da Ilha\, 4465 – Pirabeiraba
END:VEVENT
BEGIN:VEVENT
DTSTART;TZID=America/Sao_Paulo:20220713T190000
DTEND;TZID=America/Sao_Paulo:20220713T203000
DTSTAMP:20260423T105747
CREATED:20220705T042758Z
LAST-MODIFIED:20220705T042802Z
UID:783-1657738800-1657744200@www.pedalajoinville.org.br
SUMMARY:Reunião Mensal Diretoria e Conselho do Pedala Joinville
DESCRIPTION:
URL:https://www.pedalajoinville.org.br/agenda-de-eventos/reuniao-mensal-diretoria-e-conselho-do-pedala-joinville/
LOCATION:Anexo Restaurante Reinkeller – Lírica\, Rua Max Colin\, 1483\, Joinville\, SC
END:VEVENT
BEGIN:VEVENT
DTSTART;TZID=America/Sao_Paulo:20220706T190000
DTEND;TZID=America/Sao_Paulo:20220706T203000
DTSTAMP:20260423T105747
CREATED:20220704T183043Z
LAST-MODIFIED:20220704T183107Z
UID:709-1657134000-1657139400@www.pedalajoinville.org.br
SUMMARY:Movimenta Joinville Bike - Trajeto Comasa
DESCRIPTION:Evento promovido e organizado pelo Programa Movimenta Joinville – Bike\, projeto da Secretaria de Esportes do Município de Joinville. \nLocal de saída:  UBSF COMASA – LOCAL: R. Ponte Serrada\, 34 – Comasa\, Joinville – SC \nData: 06/07/2022\, (QUARTA-FEIRA) \nConcentração: a partir de 19h –  Saída: 19h:30min \n(EM CASO DE CHUVA O EVENTO SERÁ TRANSFERIDO PARA A PRÓXIMA SEMANA (QUARTA) \nPercurso (vias): Saída da UBSF COMASA passando pelas principais ruas: Ponte Serrada\, Maracujá\, Praia Grande\, Ibicaré\, Vicente Celestino\, Agostinho dos Santos\, Pref. Baltazar Buschle\, Antônio Gonçalves\, Érico Venâncio\, João da Silva\, Pref. Baltazar Buschle\, Imbuia\, Roraima\, Jaboticabal\, Ponte Serrada voltando à UBSF COMASA. \nTrajeto:  9\,8 km \nCusto:  Gratuito \nInscrições: site da Prefeitura clique aqui
URL:https://www.pedalajoinville.org.br/agenda-de-eventos/movimenta-joinville-bike-trajeto-comasa/
END:VEVENT
END:VCALENDAR